BEGIN:VCALENDAR
VERSION:2.0
PRODID:-//OsakaLive//OsakaLive//EN
CALSCALE:GREGORIAN
METHOD:PUBLISH
BEGIN:VEVENT
UID:72198e26-d65a-407d-8064-b0e300bb7013@osaka-live.app
DTSTAMP:20260424T134402Z
DTSTART;TZID=Asia/Tokyo:20260608T1830:0000
DTEND;TZID=Asia/Tokyo:20260608T203000
SUMMARY:sato♡shin pre. "♡"
LOCATION:Namba BEARS\, Osaka\, Japan
DESCRIPTION:Adv ¥2,000 / Door ¥2,500\nDoors 18:00:00\nStart 18:30:00
END:VEVENT
END:VCALENDAR
