BEGIN:VCALENDAR
VERSION:2.0
PRODID:-//OsakaLive//OsakaLive//EN
CALSCALE:GREGORIAN
METHOD:PUBLISH
BEGIN:VEVENT
UID:70d37f08-16e8-4c54-be95-7a013dcc6eff@osaka-live.app
DTSTAMP:20260425T003109Z
DTSTART;VALUE=DATE:20270420
DTEND;VALUE=DATE:20270421
SUMMARY:■LANDMVRKS
LOCATION:Grand Cube Osaka\, Osaka\, Japan
END:VEVENT
END:VCALENDAR
