BEGIN:VCALENDAR
VERSION:2.0
PRODID:-//OsakaLive//OsakaLive//EN
CALSCALE:GREGORIAN
METHOD:PUBLISH
BEGIN:VEVENT
UID:6f688aa8-4f00-4c71-b6f8-895c557f730f@osaka-live.app
DTSTAMP:20260425T003836Z
DTSTART;VALUE=DATE:20270514
DTEND;VALUE=DATE:20270515
SUMMARY:■シャカタク／Shakatak
LOCATION:Osaka Ruido\, Namba\, Chuo Ward\, Osaka
END:VEVENT
END:VCALENDAR
