BEGIN:VCALENDAR
VERSION:2.0
PRODID:-//OsakaLive//OsakaLive//EN
CALSCALE:GREGORIAN
METHOD:PUBLISH
BEGIN:VEVENT
UID:6f04450f-7517-4610-9542-7e37d6d14ed8@osaka-live.app
DTSTAMP:20260424T123739Z
DTSTART;VALUE=DATE:20260410
DTEND;VALUE=DATE:20260411
SUMMARY:LivePocket
LOCATION:Music Club JANUS\, Shinsaibashi\, Chuo Ward\, Osaka
DESCRIPTION:Adv ¥1,000 / Door ¥1,000
END:VEVENT
END:VCALENDAR
