BEGIN:VCALENDAR
VERSION:2.0
PRODID:-//OsakaLive//OsakaLive//EN
CALSCALE:GREGORIAN
METHOD:PUBLISH
BEGIN:VEVENT
UID:6e86b4b1-7ff2-46d6-ba73-f74f14b16ef3@osaka-live.app
DTSTAMP:20260425T003949Z
DTSTART;VALUE=DATE:20270721
DTEND;VALUE=DATE:20270722
SUMMARY:■ホンネ／HONNE
LOCATION:Grand Cube Osaka\, Osaka\, Japan
END:VEVENT
END:VCALENDAR
