BEGIN:VCALENDAR
VERSION:2.0
PRODID:-//OsakaLive//OsakaLive//EN
CALSCALE:GREGORIAN
METHOD:PUBLISH
BEGIN:VEVENT
UID:6d67624f-c441-4e12-ba17-fc78f3935a66@osaka-live.app
DTSTAMP:20260424T154851Z
DTSTART;TZID=Asia/Tokyo:20260421T1730:0000
DTEND;TZID=Asia/Tokyo:20260421T193000
SUMMARY:性傷年倶楽部 倶楽部会員募集ツアー
LOCATION:Americamura DROP\, Osaka\, Japan
DESCRIPTION:Doors 17:00:00\nStart 17:30:00
END:VEVENT
END:VCALENDAR
