BEGIN:VCALENDAR
VERSION:2.0
PRODID:-//OsakaLive//OsakaLive//EN
CALSCALE:GREGORIAN
METHOD:PUBLISH
BEGIN:VEVENT
UID:6cdbe72d-27f0-4e3e-ae10-157cf777459d@osaka-live.app
DTSTAMP:20260424T121306Z
DTSTART;VALUE=DATE:20270707
DTEND;VALUE=DATE:20270708
SUMMARY:■キングス・オブ・コンビニエンス／Kings of Convenience
LOCATION:Umeda Club Quattro\, Osaka\, Japan
END:VEVENT
END:VCALENDAR
