BEGIN:VCALENDAR
VERSION:2.0
PRODID:-//OsakaLive//OsakaLive//EN
CALSCALE:GREGORIAN
METHOD:PUBLISH
BEGIN:VEVENT
UID:6b87233d-e0a1-49fa-b0fe-676989b258dd@osaka-live.app
DTSTAMP:20260424T133703Z
DTSTART;TZID=Asia/Tokyo:20260625T1830:0000
DTEND;TZID=Asia/Tokyo:20260625T203000
SUMMARY:U23(要証明
LOCATION:Namba BEARS\, Osaka\, Japan
DESCRIPTION:Adv ¥1,500 / Door ¥2,800\nDoors 18:30:00\nStart 18:30:00
END:VEVENT
END:VCALENDAR
