BEGIN:VCALENDAR
VERSION:2.0
PRODID:-//OsakaLive//OsakaLive//EN
CALSCALE:GREGORIAN
METHOD:PUBLISH
BEGIN:VEVENT
UID:6b4ecf1b-aacf-4506-9380-96305c34b7b6@osaka-live.app
DTSTAMP:20260424T140141Z
DTSTART;TZID=Asia/Tokyo:20260618T1900:0000
DTEND;TZID=Asia/Tokyo:20260618T210000
SUMMARY:Creature of Habit Tour
LOCATION:Yogibo META VALLEY\, Osaka\, Japan
DESCRIPTION:Adv ¥5,000 / Door ¥9,000\nDoors 18:00:00\nStart 19:00:00
END:VEVENT
END:VCALENDAR
