BEGIN:VCALENDAR
VERSION:2.0
PRODID:-//OsakaLive//OsakaLive//EN
CALSCALE:GREGORIAN
METHOD:PUBLISH
BEGIN:VEVENT
UID:67859327-29cd-4bb2-b276-a64257a7249f@osaka-live.app
DTSTAMP:20260424T123531Z
DTSTART;VALUE=DATE:20260413
DTEND;VALUE=DATE:20260414
SUMMARY:Zeela presents. YAMINABE DEATH MATCH!! ～YAMINABE 6th Anniversary～ D
 ay.2
LOCATION:Umeda Zeela\, Osaka\, Japan
END:VEVENT
END:VCALENDAR
