BEGIN:VCALENDAR
VERSION:2.0
PRODID:-//OsakaLive//OsakaLive//EN
CALSCALE:GREGORIAN
METHOD:PUBLISH
BEGIN:VEVENT
UID:66b6e362-d087-4447-bdeb-8b54443ab1c3@osaka-live.app
DTSTAMP:20260424T134626Z
DTSTART;TZID=Asia/Tokyo:20260529T1900:0000
DTEND;TZID=Asia/Tokyo:20260529T210000
SUMMARY:"Our Hyper "Release event
LOCATION:Namba BEARS\, Osaka\, Japan
DESCRIPTION:Adv ¥2,500 / Door ¥2,500\nDoors 18:30:00\nStart 19:00:00
END:VEVENT
END:VCALENDAR
