BEGIN:VCALENDAR
VERSION:2.0
PRODID:-//OsakaLive//OsakaLive//EN
CALSCALE:GREGORIAN
METHOD:PUBLISH
BEGIN:VEVENT
UID:66b517cf-b82b-4e33-98e2-1aede9ddbfc8@osaka-live.app
DTSTAMP:20260424T123215Z
DTSTART;VALUE=DATE:20261206
DTEND;VALUE=DATE:20261207
SUMMARY:2011年以前
LOCATION:BIG CAT\, Americamura\, Nishi Ward\, Osaka
DESCRIPTION:Tickets: http://l-tike.com/
URL:http://l-tike.com/
END:VEVENT
END:VCALENDAR
