BEGIN:VCALENDAR
VERSION:2.0
PRODID:-//OsakaLive//OsakaLive//EN
CALSCALE:GREGORIAN
METHOD:PUBLISH
BEGIN:VEVENT
UID:659d6e33-421c-48d6-9cac-552993f7b17c@osaka-live.app
DTSTAMP:20260424T123738Z
DTSTART;VALUE=DATE:20260426
DTEND;VALUE=DATE:20260427
SUMMARY:双葉ひなた生誕祭』-芽吹く覚醒 爆誕ひなちゃん
LOCATION:AtlantiQs\, Osaka\, Japan
END:VEVENT
END:VCALENDAR
