BEGIN:VCALENDAR
VERSION:2.0
PRODID:-//OsakaLive//OsakaLive//EN
CALSCALE:GREGORIAN
METHOD:PUBLISH
BEGIN:VEVENT
UID:657e8886-4fe2-48db-a4ee-65260863668c@osaka-live.app
DTSTAMP:20260424T123344Z
DTSTART;TZID=Asia/Tokyo:20260409T1800:0000
DTEND;TZID=Asia/Tokyo:20260409T200000
SUMMARY:シン・ドロップノット
LOCATION:Americamura DROP\, Osaka\, Japan
DESCRIPTION:Doors 17:30:00\nStart 18:00:00
END:VEVENT
END:VCALENDAR
