BEGIN:VCALENDAR
VERSION:2.0
PRODID:-//OsakaLive//OsakaLive//EN
CALSCALE:GREGORIAN
METHOD:PUBLISH
BEGIN:VEVENT
UID:649fc842-3b7a-46d3-9d16-6764f72e92ce@osaka-live.app
DTSTAMP:20260425T003535Z
DTSTART;VALUE=DATE:20271023
DTEND;VALUE=DATE:20271024
SUMMARY:■ポール・ギルバート／Paul Gilbert
LOCATION:Osaka Ruido\, Namba\, Chuo Ward\, Osaka
END:VEVENT
END:VCALENDAR
