BEGIN:VCALENDAR
VERSION:2.0
PRODID:-//OsakaLive//OsakaLive//EN
CALSCALE:GREGORIAN
METHOD:PUBLISH
BEGIN:VEVENT
UID:62db5cfc-438f-43b5-bdc7-7ef7414aa0e3@osaka-live.app
DTSTAMP:20260425T002622Z
DTSTART;VALUE=DATE:20270515
DTEND;VALUE=DATE:20270516
SUMMARY:■シャカタク／Shakatak
LOCATION:Osaka Ruido\, Namba\, Chuo Ward\, Osaka
END:VEVENT
END:VCALENDAR
