BEGIN:VCALENDAR
VERSION:2.0
PRODID:-//OsakaLive//OsakaLive//EN
CALSCALE:GREGORIAN
METHOD:PUBLISH
BEGIN:VEVENT
UID:62b1674d-74be-48d5-b135-294a39e67cff@osaka-live.app
DTSTAMP:20260424T134530Z
DTSTART;TZID=Asia/Tokyo:20260725T1900:0000
DTEND;TZID=Asia/Tokyo:20260725T210000
SUMMARY:"Escalate"
LOCATION:Namba BEARS\, Osaka\, Japan
DESCRIPTION:Adv ¥5,000 / Door ¥5,500\nDoors 18:30:00\nStart 19:00:00
END:VEVENT
END:VCALENDAR
