BEGIN:VCALENDAR
VERSION:2.0
PRODID:-//OsakaLive//OsakaLive//EN
CALSCALE:GREGORIAN
METHOD:PUBLISH
BEGIN:VEVENT
UID:6248e848-e72c-4439-bd18-e2d190e7fc42@osaka-live.app
DTSTAMP:20260424T133530Z
DTSTART;TZID=Asia/Tokyo:20260606T1900:0000
DTEND;TZID=Asia/Tokyo:20260606T210000
SUMMARY:VERSUS
LOCATION:Namba BEARS\, Osaka\, Japan
DESCRIPTION:Adv ¥2,500 / Door ¥2,500\nDoors 18:30:00\nStart 19:00:00
END:VEVENT
END:VCALENDAR
