BEGIN:VCALENDAR
VERSION:2.0
PRODID:-//OsakaLive//OsakaLive//EN
CALSCALE:GREGORIAN
METHOD:PUBLISH
BEGIN:VEVENT
UID:6217221f-4e56-4626-a077-816a5ddf2f02@osaka-live.app
DTSTAMP:20260425T103350Z
DTSTART;VALUE=DATE:20271005
DTEND;VALUE=DATE:20271006
SUMMARY:■LANY
LOCATION:Zepp Namba\, Osaka\, Japan
END:VEVENT
END:VCALENDAR
