BEGIN:VCALENDAR
VERSION:2.0
PRODID:-//OsakaLive//OsakaLive//EN
CALSCALE:GREGORIAN
METHOD:PUBLISH
BEGIN:VEVENT
UID:615ee386-cbe7-4d78-997d-5f67592f2152@osaka-live.app
DTSTAMP:20260424T134412Z
DTSTART;TZID=Asia/Tokyo:20260522T1930:0000
DTEND;TZID=Asia/Tokyo:20260522T213000
SUMMARY:うるさいFRIDAY
LOCATION:Namba BEARS\, Osaka\, Japan
DESCRIPTION:Adv ¥2,000 / Door ¥2,000\nDoors 19:00:00\nStart 19:30:00
END:VEVENT
END:VCALENDAR
