BEGIN:VCALENDAR
VERSION:2.0
PRODID:-//OsakaLive//OsakaLive//EN
CALSCALE:GREGORIAN
METHOD:PUBLISH
BEGIN:VEVENT
UID:5ee1d4e6-9d4e-4153-8f94-7ae1b67236b6@osaka-live.app
DTSTAMP:20260424T122152Z
DTSTART;TZID=Asia/Tokyo:20260426T1530:0000
DTEND;TZID=Asia/Tokyo:20260426T173000
SUMMARY:SHYな春ライブ2026
LOCATION:Yogibo META VALLEY\, Osaka\, Japan
DESCRIPTION:Adv ¥6,000 / Door ¥8,000\nDoors 14:45:00\nStart 15:30:00
END:VEVENT
END:VCALENDAR
