BEGIN:VCALENDAR
VERSION:2.0
PRODID:-//OsakaLive//OsakaLive//EN
CALSCALE:GREGORIAN
METHOD:PUBLISH
BEGIN:VEVENT
UID:5e628802-511d-4b06-92a4-403253938979@osaka-live.app
DTSTAMP:20260424T133821Z
DTSTART;TZID=Asia/Tokyo:20260621T1900:0000
DTEND;TZID=Asia/Tokyo:20260621T210000
SUMMARY:of the cosmos ♾️
LOCATION:Namba BEARS\, Osaka\, Japan
DESCRIPTION:Adv ¥2,500 / Door ¥3,000\nDoors 18:30:00\nStart 19:00:00
END:VEVENT
END:VCALENDAR
