BEGIN:VCALENDAR
VERSION:2.0
PRODID:-//OsakaLive//OsakaLive//EN
CALSCALE:GREGORIAN
METHOD:PUBLISH
BEGIN:VEVENT
UID:5e067377-9468-4d75-9d9d-043cf37b0500@osaka-live.app
DTSTAMP:20260425T003018Z
DTSTART;VALUE=DATE:20270623
DTEND;VALUE=DATE:20270624
SUMMARY:■ソフトスポークン／Softspoken
LOCATION:Osaka Ruido\, Namba\, Chuo Ward\, Osaka
END:VEVENT
END:VCALENDAR
