BEGIN:VCALENDAR
VERSION:2.0
PRODID:-//OsakaLive//OsakaLive//EN
CALSCALE:GREGORIAN
METHOD:PUBLISH
BEGIN:VEVENT
UID:5caa200e-55c3-4e77-9c68-6ed409475132@osaka-live.app
DTSTAMP:20260425T002858Z
DTSTART;VALUE=DATE:20270619
DTEND;VALUE=DATE:20270620
SUMMARY:■CURRENTS
LOCATION:Osaka Ruido\, Namba\, Chuo Ward\, Osaka
END:VEVENT
END:VCALENDAR
