BEGIN:VCALENDAR
VERSION:2.0
PRODID:-//OsakaLive//OsakaLive//EN
CALSCALE:GREGORIAN
METHOD:PUBLISH
BEGIN:VEVENT
UID:5c58739a-87d6-44b4-8743-dfa1a5b275e1@osaka-live.app
DTSTAMP:20260425T003829Z
DTSTART;VALUE=DATE:20271103
DTEND;VALUE=DATE:20271104
SUMMARY:■Mark Boals × Kelly SIMONZ
LOCATION:Osaka Ruido\, Namba\, Chuo Ward\, Osaka
END:VEVENT
END:VCALENDAR
