BEGIN:VCALENDAR
VERSION:2.0
PRODID:-//OsakaLive//OsakaLive//EN
CALSCALE:GREGORIAN
METHOD:PUBLISH
BEGIN:VEVENT
UID:5af25dcb-5513-457b-96a8-5aa912be60ec@osaka-live.app
DTSTAMP:20260424T123408Z
DTSTART;TZID=Asia/Tokyo:20260426T1230:0000
DTEND;TZID=Asia/Tokyo:20260426T143000
SUMMARY:LilyS/ash presents “S/asshion Party in大阪”〜LilyS/ash × すべての瞬間は君だった。〜
LOCATION:Americamura DROP\, Osaka\, Japan
DESCRIPTION:Doors 12:00:00\nStart 12:30:00
END:VEVENT
END:VCALENDAR
