BEGIN:VCALENDAR
VERSION:2.0
PRODID:-//OsakaLive//OsakaLive//EN
CALSCALE:GREGORIAN
METHOD:PUBLISH
BEGIN:VEVENT
UID:59c1c937-d122-4734-af6d-48a125608fc9@osaka-live.app
DTSTAMP:20260424T134632Z
DTSTART;TZID=Asia/Tokyo:20260523T1800:0000
DTEND;TZID=Asia/Tokyo:20260523T200000
SUMMARY:PASSiON NiGHT -OSAKA
LOCATION:Namba Mele\, Namba\, Chuo Ward\, Osaka
DESCRIPTION:Adv ¥2,900 / Door ¥1,400\nDoors 17:30:00\nStart 18:00:00\nTicke
 ts: https://eplus.jp/sf/detail/4473500001-P0030001
URL:https://eplus.jp/sf/detail/4473500001-P0030001
END:VEVENT
END:VCALENDAR
