BEGIN:VCALENDAR
VERSION:2.0
PRODID:-//OsakaLive//OsakaLive//EN
CALSCALE:GREGORIAN
METHOD:PUBLISH
BEGIN:VEVENT
UID:590a522f-0fc9-4ac2-99ac-67cf00fd0c38@osaka-live.app
DTSTAMP:20260424T123553Z
DTSTART;VALUE=DATE:20270717
DTEND;VALUE=DATE:20270718
SUMMARY:■Bloody Benders
LOCATION:Hokage\, Chuo Ward\, Nishishinsaibashi 2-9-36\, Kasai Bldg B1F
END:VEVENT
END:VCALENDAR
