BEGIN:VCALENDAR
VERSION:2.0
PRODID:-//OsakaLive//OsakaLive//EN
CALSCALE:GREGORIAN
METHOD:PUBLISH
BEGIN:VEVENT
UID:5751bbad-cb1a-4eea-9660-778e64df57d0@osaka-live.app
DTSTAMP:20260424T123340Z
DTSTART;TZID=Asia/Tokyo:20260420T1900:0000
DTEND;TZID=Asia/Tokyo:20260420T210000
SUMMARY:ネオ上等-vol10
LOCATION:Americamura DROP\, Osaka\, Japan
DESCRIPTION:Doors 18:30:00\nStart 19:00:00
END:VEVENT
END:VCALENDAR
