BEGIN:VCALENDAR
VERSION:2.0
PRODID:-//OsakaLive//OsakaLive//EN
CALSCALE:GREGORIAN
METHOD:PUBLISH
BEGIN:VEVENT
UID:56b2eae8-2f54-49f7-90a9-64261f09592f@osaka-live.app
DTSTAMP:20260424T123710Z
DTSTART;VALUE=DATE:20260416
DTEND;VALUE=DATE:20260417
SUMMARY:ノ目企画 presents “THURSDAYTRIP”
LOCATION:Umeda Zeela\, Osaka\, Japan
DESCRIPTION:Adv ¥2,700 / Door ¥3,300
END:VEVENT
END:VCALENDAR
