BEGIN:VCALENDAR
VERSION:2.0
PRODID:-//OsakaLive//OsakaLive//EN
CALSCALE:GREGORIAN
METHOD:PUBLISH
BEGIN:VEVENT
UID:5681c843-1040-4591-8a60-d6695eabf9c8@osaka-live.app
DTSTAMP:20260424T133537Z
DTSTART;TZID=Asia/Tokyo:20260517T1800:0000
DTEND;TZID=Asia/Tokyo:20260517T200000
SUMMARY:白波多カミン　ワンマン
LOCATION:Namba BEARS\, Osaka\, Japan
DESCRIPTION:Adv ¥3,000 / Door ¥3,500\nDoors 17:30:00\nStart 18:00:00
END:VEVENT
END:VCALENDAR
