BEGIN:VCALENDAR
VERSION:2.0
PRODID:-//OsakaLive//OsakaLive//EN
CALSCALE:GREGORIAN
METHOD:PUBLISH
BEGIN:VEVENT
UID:558fc63d-f3e0-4493-94f9-fdc9f268f55a@osaka-live.app
DTSTAMP:20260424T122504Z
DTSTART;TZID=Asia/Tokyo:20260429T1700:0000
DTEND;TZID=Asia/Tokyo:20260429T190000
SUMMARY:祝） open
LOCATION:Namba BEARS\, Osaka\, Japan
DESCRIPTION:Adv ¥1,500 / Door ¥1,500\nStart 17:00:00
END:VEVENT
END:VCALENDAR
