BEGIN:VCALENDAR
VERSION:2.0
PRODID:-//OsakaLive//OsakaLive//EN
CALSCALE:GREGORIAN
METHOD:PUBLISH
BEGIN:VEVENT
UID:556545cb-89ab-46bf-9023-ff032c44cde6@osaka-live.app
DTSTAMP:20260424T134908Z
DTSTART;TZID=Asia/Tokyo:20260530T1300:0000
DTEND;TZID=Asia/Tokyo:20260530T150000
SUMMARY:Maher Shalal Hash Baz -ONE MAN
LOCATION:Namba BEARS\, Osaka\, Japan
DESCRIPTION:Adv ¥2,500 / Door ¥3,000\nDoors 12:30:00\nStart 13:00:00
END:VEVENT
END:VCALENDAR
