BEGIN:VCALENDAR
VERSION:2.0
PRODID:-//OsakaLive//OsakaLive//EN
CALSCALE:GREGORIAN
METHOD:PUBLISH
BEGIN:VEVENT
UID:54ddf7a5-e30a-4d9d-a1b4-6a933a6bd457@osaka-live.app
DTSTAMP:20260424T133648Z
DTSTART;TZID=Asia/Tokyo:20260706T1900:0000
DTEND;TZID=Asia/Tokyo:20260706T210000
SUMMARY:indian no echo sign bine no!
LOCATION:Namba BEARS\, Osaka\, Japan
DESCRIPTION:Adv ¥3,000 / Door ¥3,500\nDoors 18:30:00\nStart 19:00:00
END:VEVENT
END:VCALENDAR
