BEGIN:VCALENDAR
VERSION:2.0
PRODID:-//OsakaLive//OsakaLive//EN
CALSCALE:GREGORIAN
METHOD:PUBLISH
BEGIN:VEVENT
UID:53815260-3473-40a7-b5c1-717dbde39c19@osaka-live.app
DTSTAMP:20260424T121307Z
DTSTART;VALUE=DATE:20260817
DTEND;VALUE=DATE:20260818
SUMMARY:大阪府大阪市北区太融寺町 プラザ梅田10F
LOCATION:Umeda Club Quattro\, Osaka\, Japan
END:VEVENT
END:VCALENDAR
