BEGIN:VCALENDAR
VERSION:2.0
PRODID:-//OsakaLive//OsakaLive//EN
CALSCALE:GREGORIAN
METHOD:PUBLISH
BEGIN:VEVENT
UID:535e6fc3-47fe-42c7-beab-9842905037d9@osaka-live.app
DTSTAMP:20260424T154626Z
DTSTART;VALUE=DATE:20260422
DTEND;VALUE=DATE:20260423
SUMMARY:ioman s BAR
LOCATION:Americamura DROP\, Osaka\, Japan
END:VEVENT
END:VCALENDAR
