BEGIN:VCALENDAR
VERSION:2.0
PRODID:-//OsakaLive//OsakaLive//EN
CALSCALE:GREGORIAN
METHOD:PUBLISH
BEGIN:VEVENT
UID:5358bbd4-2fa8-4005-a60d-66b57829b078@osaka-live.app
DTSTAMP:20260424T135743Z
DTSTART;TZID=Asia/Tokyo:20260605T1900:0000
DTEND;TZID=Asia/Tokyo:20260605T210000
SUMMARY:locofrank presents "65"〜ロコの〜
LOCATION:Yogibo META VALLEY\, Osaka\, Japan
DESCRIPTION:Adv ¥7,700 / Door ¥4,300\nDoors 18:00:00\nStart 19:00:00
END:VEVENT
END:VCALENDAR
