BEGIN:VCALENDAR
VERSION:2.0
PRODID:-//OsakaLive//OsakaLive//EN
CALSCALE:GREGORIAN
METHOD:PUBLISH
BEGIN:VEVENT
UID:51b54b80-32be-4dcf-a87f-4c1b53b354b4@osaka-live.app
DTSTAMP:20260424T183839Z
DTSTART;VALUE=DATE:20260508
DTEND;VALUE=DATE:20260509
SUMMARY:GOODLIFE feat. SPACE 92
LOCATION:Club Joule\, Shinsaibashi\, Chuo Ward\, Osaka
END:VEVENT
END:VCALENDAR
