BEGIN:VCALENDAR
VERSION:2.0
PRODID:-//OsakaLive//OsakaLive//EN
CALSCALE:GREGORIAN
METHOD:PUBLISH
BEGIN:VEVENT
UID:4f7aa94e-f87f-4646-b904-4e35a7afeaa5@osaka-live.app
DTSTAMP:20260424T154334Z
DTSTART;VALUE=DATE:20260421
DTEND;VALUE=DATE:20260422
SUMMARY:ioman s BAR
LOCATION:Americamura DROP\, Osaka\, Japan
END:VEVENT
END:VCALENDAR
