BEGIN:VCALENDAR
VERSION:2.0
PRODID:-//OsakaLive//OsakaLive//EN
CALSCALE:GREGORIAN
METHOD:PUBLISH
BEGIN:VEVENT
UID:4ddec07a-9f53-4f93-a56f-dd29a3c47162@osaka-live.app
DTSTAMP:20260424T122437Z
DTSTART;TZID=Asia/Tokyo:20260503T1830:0000
DTEND;TZID=Asia/Tokyo:20260503T203000
SUMMARY:SAY HELLO TO NEVER RECORDINGS & Hallucination present
LOCATION:Namba BEARS\, Osaka\, Japan
DESCRIPTION:Adv ¥4,000 / Door ¥5,000\nDoors 18:00:00\nStart 18:30:00
END:VEVENT
END:VCALENDAR
