BEGIN:VCALENDAR
VERSION:2.0
PRODID:-//OsakaLive//OsakaLive//EN
CALSCALE:GREGORIAN
METHOD:PUBLISH
BEGIN:VEVENT
UID:4d9cb4a2-a3a8-48bf-8ae8-c05204798000@osaka-live.app
DTSTAMP:20260424T140005Z
DTSTART;VALUE=DATE:20260628
DTEND;VALUE=DATE:20260629
SUMMARY:SUPER☆GiRLS 結成16周年ツアー
LOCATION:Yogibo META VALLEY\, Osaka\, Japan
DESCRIPTION:Adv ¥4,500 / Door ¥6,800
END:VEVENT
END:VCALENDAR
