BEGIN:VCALENDAR
VERSION:2.0
PRODID:-//OsakaLive//OsakaLive//EN
CALSCALE:GREGORIAN
METHOD:PUBLISH
BEGIN:VEVENT
UID:4d67c1a7-4a14-4737-9dec-e90c34a806c4@osaka-live.app
DTSTAMP:20260424T123611Z
DTSTART;TZID=Asia/Tokyo:20260429T1500:0000
DTEND;TZID=Asia/Tokyo:20260429T170000
SUMMARY:Section U.G & UZMK presents.『Red Death Chocolate Rampage3』-アメリカ村 BE
 YOND 8th ANNIVERSARY
LOCATION:Americamura DROP\, Osaka\, Japan
DESCRIPTION:Doors 14:30:00\nStart 15:00:00
END:VEVENT
END:VCALENDAR
