BEGIN:VCALENDAR
VERSION:2.0
PRODID:-//OsakaLive//OsakaLive//EN
CALSCALE:GREGORIAN
METHOD:PUBLISH
BEGIN:VEVENT
UID:4d35e7f1-ed98-4bfb-aa15-1133b83a63b3@osaka-live.app
DTSTAMP:20260425T003656Z
DTSTART;VALUE=DATE:20270930
DTEND;VALUE=DATE:20271001
SUMMARY:■マーカス・ミラー／Marcus Miller
LOCATION:Grand Cube Osaka\, Osaka\, Japan
END:VEVENT
END:VCALENDAR
