BEGIN:VCALENDAR
VERSION:2.0
PRODID:-//OsakaLive//OsakaLive//EN
CALSCALE:GREGORIAN
METHOD:PUBLISH
BEGIN:VEVENT
UID:49b8923d-fbc4-4c3e-847b-3f55f28e9fbc@osaka-live.app
DTSTAMP:20260424T123858Z
DTSTART;VALUE=DATE:20271112
DTEND;VALUE=DATE:20271113
SUMMARY:■Wild Charge
LOCATION:Hokage\, Chuo Ward\, Nishishinsaibashi 2-9-36\, Kasai Bldg B1F
END:VEVENT
END:VCALENDAR
