BEGIN:VCALENDAR
VERSION:2.0
PRODID:-//OsakaLive//OsakaLive//EN
CALSCALE:GREGORIAN
METHOD:PUBLISH
BEGIN:VEVENT
UID:4964a3ac-6bbc-4850-9373-1ad9551a04fd@osaka-live.app
DTSTAMP:20260424T154618Z
DTSTART;TZID=Asia/Tokyo:20260423T1750:0000
DTEND;TZID=Asia/Tokyo:20260423T195000
SUMMARY:Revelry Tour 2026(大阪
LOCATION:Americamura DROP\, Osaka\, Japan
DESCRIPTION:Doors 17:30:00\nStart 17:50:00
END:VEVENT
END:VCALENDAR
