BEGIN:VCALENDAR
VERSION:2.0
PRODID:-//OsakaLive//OsakaLive//EN
CALSCALE:GREGORIAN
METHOD:PUBLISH
BEGIN:VEVENT
UID:49357adc-0ba9-4e66-9356-b3ab2dc1696c@osaka-live.app
DTSTAMP:20260424T122249Z
DTSTART;TZID=Asia/Tokyo:20260509T1830:0000
DTEND;TZID=Asia/Tokyo:20260509T203000
SUMMARY:THE LET’S GO’s 7inch Release Party
LOCATION:Namba Mele\, Namba\, Chuo Ward\, Osaka
DESCRIPTION:Adv ¥3,500 / Door ¥4,000\nDoors 18:00:00\nStart 18:30:00\nTicke
 ts: https://eplus.jp/sf/detail/4473500001-P0030001
URL:https://eplus.jp/sf/detail/4473500001-P0030001
END:VEVENT
END:VCALENDAR
