BEGIN:VCALENDAR
VERSION:2.0
PRODID:-//OsakaLive//OsakaLive//EN
CALSCALE:GREGORIAN
METHOD:PUBLISH
BEGIN:VEVENT
UID:48e546f7-2cf4-4aea-a38c-5849b4903225@osaka-live.app
DTSTAMP:20260425T003535Z
DTSTART;VALUE=DATE:20271125
DTEND;VALUE=DATE:20271126
SUMMARY:■ウルフ・アリス／Wolf Alice
LOCATION:Osaka Ruido\, Namba\, Chuo Ward\, Osaka
END:VEVENT
END:VCALENDAR
