BEGIN:VCALENDAR
VERSION:2.0
PRODID:-//OsakaLive//OsakaLive//EN
CALSCALE:GREGORIAN
METHOD:PUBLISH
BEGIN:VEVENT
UID:4682ce48-8f6b-4fa4-9381-17f39532f0b4@osaka-live.app
DTSTAMP:20260424T122453Z
DTSTART;TZID=Asia/Tokyo:20260427T1800:0000
DTEND;TZID=Asia/Tokyo:20260427T200000
SUMMARY:紅音伊織・黄咲ルル卒業公演
LOCATION:Yogibo META VALLEY\, Osaka\, Japan
DESCRIPTION:Adv ¥5,800 / Door ¥3,000\nDoors 17:30:00\nStart 18:00:00
END:VEVENT
END:VCALENDAR
