BEGIN:VCALENDAR
VERSION:2.0
PRODID:-//OsakaLive//OsakaLive//EN
CALSCALE:GREGORIAN
METHOD:PUBLISH
BEGIN:VEVENT
UID:46076e72-1c20-4823-b78a-b82cd64ab570@osaka-live.app
DTSTAMP:20260424T135831Z
DTSTART;TZID=Asia/Tokyo:20260531T1630:0000
DTEND;TZID=Asia/Tokyo:20260531T183000
SUMMARY:KOTOKO LIVE TOUR 喜怒哀楽 ~Fun Spring~ [DAY2
LOCATION:Yogibo META VALLEY\, Osaka\, Japan
DESCRIPTION:Adv ¥7,700 / Door ¥6,900\nDoors 16:00:00\nStart 16:30:00
END:VEVENT
END:VCALENDAR
