BEGIN:VCALENDAR
VERSION:2.0
PRODID:-//OsakaLive//OsakaLive//EN
CALSCALE:GREGORIAN
METHOD:PUBLISH
BEGIN:VEVENT
UID:43364f8b-ae86-4e3f-98b3-d4bd5f200a78@osaka-live.app
DTSTAMP:20260424T135105Z
DTSTART;TZID=Asia/Tokyo:20260517T1545:0000
DTEND;TZID=Asia/Tokyo:20260517T174500
SUMMARY:you kiyo shuji
LOCATION:Yogibo META VALLEY\, Osaka\, Japan
DESCRIPTION:Adv ¥8,000 / Door ¥8,000\nDoors 15:00:00\nStart 15:45:00
END:VEVENT
END:VCALENDAR
